BEGIN:VCALENDAR
VERSION:2.0
PRODID:icalendar-ruby
CALSCALE:GREGORIAN
METHOD:PUBLISH
BEGIN:VEVENT
DTSTAMP:20260421T085343Z
UID:6-1668129@stfrancisofthebirds.ca
DTSTART:20251228T143000Z
DTEND:20251228T153000Z
CLASS:PUBLIC
CREATED:20260420T202311
DESCRIPTION:Sunday Service
LAST-MODIFIED:20260420T202311
LOCATION:94 ave St.Denis\, Saint-Sauveur
SUMMARY:Sunday Service
URL;VALUE=URI:https://www.stfrancisofthebirds.ca/events/sunday-service--6/2
 025-12-28
END:VEVENT
END:VCALENDAR
