BEGIN:VCALENDAR
VERSION:2.0
PRODID:icalendar-ruby
CALSCALE:GREGORIAN
METHOD:PUBLISH
BEGIN:VEVENT
DTSTAMP:20260421T085455Z
UID:6-1668130@stfrancisofthebirds.ca
DTSTART:20260104T143000Z
DTEND:20260104T153000Z
CLASS:PUBLIC
CREATED:20260420T202311
DESCRIPTION:Sunday Service
LAST-MODIFIED:20260420T202311
LOCATION:94 ave St.Denis\, Saint-Sauveur
SUMMARY:Sunday Service
URL;VALUE=URI:https://www.stfrancisofthebirds.ca/events/sunday-service--6/2
 026-01-04
END:VEVENT
END:VCALENDAR
