BEGIN:VCALENDAR
VERSION:2.0
PRODID:icalendar-ruby
CALSCALE:GREGORIAN
METHOD:PUBLISH
BEGIN:VEVENT
DTSTAMP:20260421T211847Z
UID:6-1672315@stfrancisofthebirds.ca
DTSTART:20260308T133000Z
DTEND:20260308T143000Z
CLASS:PUBLIC
CREATED:20260421T152110
DESCRIPTION:Sunday Service
LAST-MODIFIED:20260421T152110
LOCATION:94 ave St.Denis\, Saint-Sauveur
SUMMARY:Sunday Service
URL;VALUE=URI:https://www.stfrancisofthebirds.ca/events/sunday-service--6/2
 026-03-08
END:VEVENT
END:VCALENDAR
