BEGIN:VCALENDAR
VERSION:2.0
PRODID:icalendar-ruby
CALSCALE:GREGORIAN
METHOD:PUBLISH
BEGIN:VEVENT
DTSTAMP:20260421T085752Z
UID:6-1668164@stfrancisofthebirds.ca
DTSTART:20260830T133000Z
DTEND:20260830T143000Z
CLASS:PUBLIC
CREATED:20260420T202312
DESCRIPTION:Sunday Service
LAST-MODIFIED:20260420T202312
LOCATION:94 ave St.Denis\, Saint-Sauveur
SUMMARY:Sunday Service
URL;VALUE=URI:https://www.stfrancisofthebirds.ca/events/sunday-service--6/2
 026-08-30
END:VEVENT
END:VCALENDAR
