BEGIN:VCALENDAR
VERSION:2.0
PRODID:icalendar-ruby
CALSCALE:GREGORIAN
METHOD:PUBLISH
BEGIN:VEVENT
DTSTAMP:20260421T135403Z
UID:6-1669209@stfrancisofthebirds.ca
DTSTART:20260906T133000Z
DTEND:20260906T143000Z
CLASS:PUBLIC
CREATED:20260421T072938
DESCRIPTION:Sunday Service
LAST-MODIFIED:20260421T072938
LOCATION:94 ave St.Denis\, Saint-Sauveur
SUMMARY:Sunday Service
URL;VALUE=URI:https://www.stfrancisofthebirds.ca/events/sunday-service--6/2
 026-09-06
END:VEVENT
END:VCALENDAR
