BEGIN:VCALENDAR
VERSION:2.0
PRODID:icalendar-ruby
CALSCALE:GREGORIAN
METHOD:PUBLISH
BEGIN:VEVENT
DTSTAMP:20260422T001853Z
UID:6-1673392@stfrancisofthebirds.ca
DTSTART:20261025T133000Z
DTEND:20261025T143000Z
CLASS:PUBLIC
CREATED:20260421T175826
DESCRIPTION:Sunday Service
LAST-MODIFIED:20260421T175826
LOCATION:94 ave St.Denis\, Saint-Sauveur
SUMMARY:Sunday Service
URL;VALUE=URI:https://www.stfrancisofthebirds.ca/events/sunday-service--6/2
 026-10-25
END:VEVENT
END:VCALENDAR
